BEGIN:VCALENDAR
VERSION:2.0
PRODID:-//Library Market//iCal Export//EN
BEGIN:VEVENT
SUMMARY:Brunswick Arts Council Program: Intro to Hand Sewing
UID:176162
DTSTAMP:20260423T045500Z
DTSTART:20260614T180000Z
DTEND:20260614T200000Z
LOCATION:Brunswick Branch Library, 915 North Maple Avenue, Brunswick, MD 2
 1716, United States
ROOM: Community Room (BR)
DESCRIPTION:Come learn the basics of hand sewing from Gennifer Majors, a t
 extile conservator who specializes in historic fabric conservation. Learn 
 from the best! Gennifer is passionate about the fun, care, and magic that 
 can be found in something as simple as a piece of clothing. 
URL:https://frederick.librarycalendar.com/event/brunswick-arts-council-cla
 ss-176162
END:VEVENT
END:VCALENDAR
