BEGIN:VCALENDAR
VERSION:2.0
PRODID:-//Library Market//iCal Export//EN
BEGIN:VEVENT
SUMMARY:Memory Cafe
UID:180556
DTSTAMP:20260421T023300Z
DTSTART:20260724T153000Z
DTEND:20260724T170000Z
LOCATION:Brunswick Branch Library, 915 North Maple Avenue, Brunswick, MD 2
 1716, United States
ROOM: Community Room (BR)
DESCRIPTION:Memory Cafe is a safe and relaxed place where people with earl
 y-stage memory loss, their families, and friends can come together for soc
 ial engagement. Anyone affected by early-stage memory loss is welcome to a
 ttend. Lunch is provided for free at each cafe. This program is provided i
 n partnership with the Department of Aging and Independence and the Alzhei
 mer&#039;s Association. NOTE: Pre-registration is required, register at l
 east two days prior to cafe. TO REGISTER: Call 301-600-6022 or Email Careg
 iverSupport@FrederickCountyMD.gov  
URL:https://frederick.librarycalendar.com/event/memory-cafe-180556
END:VEVENT
END:VCALENDAR
