BEGIN:VCALENDAR
VERSION:2.0
PRODID:-//Library Market//iCal Export//EN
BEGIN:VEVENT
SUMMARY:Celtic Harp Trio
UID:187001
DTSTAMP:20260419T155700Z
DTSTART:20260620T143000Z
DTEND:20260620T153000Z
LOCATION:Middletown Branch Library, 31 E Green Street, Middletown, MD 2176
 9, United States
ROOM: Inside Library (MD)
DESCRIPTION:Enjoy the musical stylings of the celtic harp, flute and violi
 n.
URL:https://frederick.librarycalendar.com/event/celtic-harp-trio-187001
END:VEVENT
END:VCALENDAR
