BEGIN:VCALENDAR
VERSION:2.0
PRODID:-//Library Market//iCal Export//EN
BEGIN:VEVENT
SUMMARY:Introduction to Felting
UID:192385
DTSTAMP:20260420T205500Z
DTSTART:20260826T220000Z
DTEND:20260826T233000Z
LOCATION:Brunswick Branch Library, 915 North Maple Avenue, Brunswick, MD 2
 1716, United States
ROOM: Community Room (BR)
DESCRIPTION:During this workshop participants will get the opportunity to 
 try wet-felting and needle felting and create a &quot;Snuggle Stone&quot; 
 of their own. We&#039;ll use natural materials to make a sensory soothing 
 pocket charm. It&#039;s as fun and calming to make as it is to enjoy after
 wards. 
URL:https://frederick.librarycalendar.com/event/needle-felting-workshop-19
 2385
END:VEVENT
END:VCALENDAR
