BEGIN:VCALENDAR
VERSION:2.0
PRODID:-//Library Market//iCal Export//EN
BEGIN:VEVENT
SUMMARY:Adult Caregiver Program: Preparing a Letter of Intent
UID:194060
DTSTAMP:20260421T023300Z
DTSTART:20260719T180000Z
DTEND:20260719T190000Z
LOCATION:Brunswick Branch Library, 915 North Maple Avenue, Brunswick, MD 2
 1716, United States
ROOM: Community Room (BR)
DESCRIPTION:The Letter of Intent is a document that includes critical info
 rmation about your loved one with a diagnosis of a disability. It includes
  details about the day-to-day activities, schedules, services, health care
  needs, and the wishes for their future care. Corby Fowler and Lisa Martin
 is of The Arc of Frederick County will break down the Letter of Intent int
 o small manageable sections and talk about other helpful resources. They w
 ill also have Red Folders available to help you keep all your emergency in
 formation in one place. 
URL:https://frederick.librarycalendar.com/event/arc-program-194060
END:VEVENT
END:VCALENDAR
