BEGIN:VCALENDAR
VERSION:2.0
PRODID:-//Library Market//iCal Export//EN
BEGIN:VEVENT
SUMMARY:Paws 2 Read
UID:196362
DTSTAMP:20260419T172700Z
DTSTART:20260514T223000Z
DTEND:20260514T233000Z
LOCATION:2 S Glade Road, Walkersville, MD 21793, United States
ROOM: Fireplace
DESCRIPTION:Join Go Team Therapy Dogs to improve your reading confidence a
 nd make a new friend when you read aloud to a therapy dog.
URL:https://frederick.librarycalendar.com/event/paws-2-read-196362
END:VEVENT
END:VCALENDAR
