BEGIN:VCALENDAR
VERSION:2.0
PRODID:-//Library Market//iCal Export//EN
BEGIN:VEVENT
SUMMARY:Art Through the Ages
UID:196756
DTSTAMP:20260422T221800Z
DTSTART:20260623T180000Z
DTEND:20260623T190000Z
LOCATION:C. Burr Artz Public Library, 110 East Patrick Street, Frederick, 
 MD 21701, United States
ROOM: Community Room (CBA)
DESCRIPTION:Travel through time, with art! From the very beginnings in cav
 es to modern art, join us to learn about major art movements and create ma
 sterpieces. Come dressed for messy, creative fun. 
URL:https://frederick.librarycalendar.com/event/ch-program-room-hold-19675
 6
END:VEVENT
END:VCALENDAR
