BEGIN:VCALENDAR
VERSION:2.0
PRODID:-//Library Market//iCal Export//EN
BEGIN:VEVENT
SUMMARY:Make a Masquerade Mask
UID:196757
DTSTAMP:20260422T221800Z
DTSTART:20260625T180000Z
DTEND:20260625T190000Z
LOCATION:C. Burr Artz Public Library, 110 East Patrick Street, Frederick, 
 MD 21701, United States
ROOM: Community Room (CBA)
DESCRIPTION:Unleash your creativity and create your own colorful mask insp
 ired by the elegance and intrigue of traditional masquerade celebrations. 
 We’ll provide a variety of mask templates along with feathers, gems, seq
 uins, metallic markers, ribbons, and more to help you craft a one-of-a-kin
 d design.
URL:https://frederick.librarycalendar.com/event/ch-program-room-hold-19675
 7
END:VEVENT
END:VCALENDAR
