BEGIN:VCALENDAR
VERSION:2.0
PRODID:-//Library Market//iCal Export//EN
BEGIN:VEVENT
SUMMARY:Adult Adaptive Program: Dance Party
UID:197231
DTSTAMP:20260419T155700Z
DTSTART:20260828T150000Z
DTEND:20260828T160000Z
LOCATION:Brunswick Branch Library, 915 North Maple Avenue, Brunswick, MD 2
 1716, United States
ROOM: Inside Library (BR)
DESCRIPTION:Come learn some new dance moves from Ally Caho of the Dee Buch
 anan Studio of Dance. We welcome all adults with developmental disabilitie
 s and their caregivers for this fun, movement program.
URL:https://frederick.librarycalendar.com/event/adult-adaptive-program-dan
 ce-party-197231
END:VEVENT
END:VCALENDAR
