BEGIN:VCALENDAR
VERSION:2.0
PRODID:-//Library Market//iCal Export//EN
BEGIN:VEVENT
SUMMARY:Meet Me on Memory Lane
UID:197301
DTSTAMP:20260423T224700Z
DTSTART:20260708T141500Z
DTEND:20260708T150000Z
LOCATION:Urbana Regional Library, 9020 Amelung Street, Frederick, MD 21704
 , United States
ROOM: Small Conference Room
DESCRIPTION:Learn new ways to make meaningful connections and spark conver
 sations with your friends and family members experiencing memory loss with
  Jordan Cox of Frederick County’s Division of Aging and Independence –
  and get an introduction to new library resources that can help inspire th
 ose connections.
URL:https://frederick.librarycalendar.com/event/memorylane
END:VEVENT
END:VCALENDAR
