BEGIN:VCALENDAR
VERSION:2.0
PRODID:-//Library Market//iCal Export//EN
BEGIN:VEVENT
SUMMARY:Great Comets in History
UID:197347
DTSTAMP:20260422T221800Z
DTSTART:20260621T180000Z
DTEND:20260621T190000Z
LOCATION:Brunswick Branch Library, 915 North Maple Avenue, Brunswick, MD 2
 1716, United States
ROOM: Community Room (BR)
DESCRIPTION:Come learn about noteworthy comets of the last 1,000 years and
  how they have influenced history and culture, from local amateur astronom
 er Scott Carr.  
URL:https://frederick.librarycalendar.com/event/great-comets-history-resch
 eduled-197347
END:VEVENT
END:VCALENDAR
