BEGIN:VCALENDAR
VERSION:2.0
PRODID:-//Library Market//iCal Export//EN
BEGIN:VEVENT
SUMMARY:Cowpoke Craftapalooza! 
UID:197479
DTSTAMP:20260421T023300Z
DTSTART:20260707T180000Z
DTEND:20260707T190000Z
LOCATION:C. Burr Artz Public Library, 110 East Patrick Street, Frederick, 
 MD 21701, United States
ROOM: Community Room (CBA)
DESCRIPTION:Yeehaw! Come join us for some Wild West-inspired crafts for al
 l ages. From boots to snakes to cacti and beyond, you&#039;re sure to have
  a rootin&#039;-tootin&#039; good time making art til the cows come home.
URL:https://frederick.librarycalendar.com/event/ch-program-room-hold-19747
 9
END:VEVENT
END:VCALENDAR
