BEGIN:VCALENDAR
VERSION:2.0
PRODID:-//Library Market//iCal Export//EN
BEGIN:VEVENT
SUMMARY:Dynamic Dinosaurs with GTC Rock Shop
UID:197480
DTSTAMP:20260422T201300Z
DTSTART:20260702T180000Z
DTEND:20260702T190000Z
LOCATION:C. Burr Artz Public Library, 110 East Patrick Street, Frederick, 
 MD 21701, United States
ROOM: Programming Room (CBA)
DESCRIPTION:Hey dino lovers! Join us in person for an exciting adventure w
 ith the coolest prehistoric creatures. Meet, explore, and learn all about 
 how we classify or identify dinosaurs in a fun and interactive way. Whethe
 r you&#039;re a budding paleontologist or just love these giant lizards, t
 his event is perfect for you! Don’t miss out on a day filled with roars,
  discovery, and dino-mite fun.&quot;
URL:https://frederick.librarycalendar.com/event/ch-program-room-hold-19748
 0
END:VEVENT
END:VCALENDAR
