BEGIN:VCALENDAR
VERSION:2.0
PRODID:-//Library Market//iCal Export//EN
BEGIN:VEVENT
SUMMARY:Agriculture Olympics
UID:197481
DTSTAMP:20260422T221800Z
DTSTART:20260702T170000Z
DTEND:20260702T180000Z
LOCATION:C. Burr Artz Public Library, 110 East Patrick Street, Frederick, 
 MD 21701, United States
ROOM: Community Room (CBA)
DESCRIPTION: Get ready for hands-on fun at our Agriculture Olympics for k
 ids. Activities include cow milking, a grain toss, a sensory herb challeng
 e, a compost game, an egg operation, and more. It’s a great way for kids
  to explore the world of agriculture through games, movement, and discover
 y. Perfect for young learners who like to get active and learn by doing.
URL:https://frederick.librarycalendar.com/event/ch-program-room-hold-19748
 1
END:VEVENT
END:VCALENDAR
