BEGIN:VCALENDAR
VERSION:2.0
PRODID:-//Library Market//iCal Export//EN
BEGIN:VEVENT
SUMMARY:Yeehaw! A Western Adventure!
UID:197483
DTSTAMP:20260421T023300Z
DTSTART:20260709T180000Z
DTEND:20260709T190000Z
LOCATION:C. Burr Artz Public Library, 110 East Patrick Street, Frederick, 
 MD 21701, United States
ROOM: Community Room (CBA)
DESCRIPTION:Giddy up and join us for a rootin’-tootin’ good time at th
 e library! We’ll welcome a special visit from Andy the Armadillo, the ma
 scot from Texas Roadhouse. Kids can dig for gold in our sensory bin, test 
 their aim with bean bag toss, and practice their cowboy skills by lassoing
  puppets. This interactive program is perfect for families and little cowb
 oys and cowgirls ready for some Western-themed fun!
URL:https://frederick.librarycalendar.com/event/ch-program-room-hold-19748
 3
END:VEVENT
END:VCALENDAR
