BEGIN:VCALENDAR
VERSION:2.0
PRODID:-//Library Market//iCal Export//EN
BEGIN:VEVENT
SUMMARY:Paleontology Exploration
UID:197485
DTSTAMP:20260421T023300Z
DTSTART:20260716T180000Z
DTEND:20260716T190000Z
LOCATION:C. Burr Artz Public Library, 110 East Patrick Street, Frederick, 
 MD 21701, United States
ROOM: Community Room (CBA)
DESCRIPTION:Join as for some dinosaur fun! This is your time to become a p
 aleontologist and explore everything dinosaurs and fossils. 
URL:https://frederick.librarycalendar.com/event/ch-program-room-hold-19748
 5
END:VEVENT
END:VCALENDAR
