BEGIN:VCALENDAR
VERSION:2.0
PRODID:-//Library Market//iCal Export//EN
BEGIN:VEVENT
SUMMARY:Ocean Exploration Stations
UID:197491
DTSTAMP:20260421T023300Z
DTSTART:20260723T180000Z
DTEND:20260723T190000Z
LOCATION:C. Burr Artz Public Library, 110 East Patrick Street, Frederick, 
 MD 21701, United States
ROOM: Community Room (CBA)
DESCRIPTION:Dive under the waves and discover what lies beneath through a 
 variety of projects, experiments, and crafts.
URL:https://frederick.librarycalendar.com/event/ch-program-room-hold-19749
 1
END:VEVENT
END:VCALENDAR
