BEGIN:VCALENDAR
VERSION:2.0
PRODID:-//Library Market//iCal Export//EN
BEGIN:VEVENT
SUMMARY:Superhero Training Academy
UID:197493
DTSTAMP:20260424T081900Z
DTSTART:20260730T180000Z
DTEND:20260730T190000Z
LOCATION:C. Burr Artz Public Library, 110 East Patrick Street, Frederick, 
 MD 21701, United States
ROOM: Community Room (CBA)
DESCRIPTION:Calling all heroes-in-training! Join us for an action-packed a
 dventure where kids can test their skills, spark their imaginations, and d
 iscover their inner superpowers. Participants will rotate through a series
  of interactive stations designed to encourage movement, creativity, and h
 ands-on exploration. Young heroes can navigate a fun obstacle course and t
 ake on a playful challenge to save the day. Costumes are welcome but not r
 equired—just bring your super spirit and get ready for heroic fun!
URL:https://frederick.librarycalendar.com/event/ch-program-room-hold-19749
 3
END:VEVENT
END:VCALENDAR
