BEGIN:VCALENDAR
VERSION:2.0
PRODID:-//Library Market//iCal Export//EN
BEGIN:VEVENT
SUMMARY:Superhero for a Day
UID:197497
DTSTAMP:20260424T081900Z
DTSTART:20260728T180000Z
DTEND:20260728T190000Z
LOCATION:C. Burr Artz Public Library, 110 East Patrick Street, Frederick, 
 MD 21701, United States
ROOM: Community Room (CBA)
DESCRIPTION:Calling all mighty heroes and courageous sidekicks. Join us fo
 r a lively day of superhero‑inspired fun, featuring simple crafts, playf
 ul activities, and a daring scavenger hunt fit for champions of every age.
  Families are invited to share in the excitement and imagination of this h
 eroic gathering.
URL:https://frederick.librarycalendar.com/event/ch-program-room-hold-19749
 7
END:VEVENT
END:VCALENDAR
