BEGIN:VCALENDAR
VERSION:2.0
PRODID:-//Library Market//iCal Export//EN
BEGIN:VEVENT
SUMMARY:Disagreeing Better
UID:197900
DTSTAMP:20260422T201300Z
DTSTART:20260607T180000Z
DTEND:20260607T200000Z
LOCATION:Brunswick Branch Library, 915 North Maple Avenue, Brunswick, MD 2
 1716, United States
ROOM: Community Room (BR)
DESCRIPTION:Join us to learn how to disagree better in polarized times. In
  this workshop, facilitated by Better Angels, we will gain skills for list
 ening carefully, looking for common ground, and sharing perspectives in wa
 ys that connect rather than create more misunderstanding. This program su
 pports By the People: Civic Engagement for All, an FCPL initiative to fost
 er civic knowledge and participation in the Frederick County community.
URL:https://frederick.librarycalendar.com/event/disagreeing-better-197900
END:VEVENT
END:VCALENDAR
