BEGIN:VCALENDAR
VERSION:2.0
PRODID:-//Library Market//iCal Export//EN
BEGIN:VEVENT
SUMMARY:Into the Realm
UID:198664
DTSTAMP:20260419T172700Z
DTSTART:20260804T180000Z
DTEND:20260804T190000Z
LOCATION:C. Burr Artz Public Library, 110 East Patrick Street, Frederick, 
 MD 21701, United States
ROOM: Community Room (CBA)
DESCRIPTION:Hear ye, families far and near! Join us for a merry day of fai
 rytale‑inspired fun, featuring simple crafts, lighthearted activities, a
 nd a questing scavenger hunt. All ages are welcome to share in the whimsy 
 and delight of this enchanted gathering.
URL:https://frederick.librarycalendar.com/event/ch-program-room-hold-19866
 4
END:VEVENT
END:VCALENDAR
