BEGIN:VCALENDAR
VERSION:2.0
PRODID:-//Library Market//iCal Export//EN
BEGIN:VEVENT
SUMMARY:Enchanted Fairy Forest 
UID:198666
DTSTAMP:20260419T172700Z
DTSTART:20260806T180000Z
DTEND:20260806T190000Z
LOCATION:C. Burr Artz Public Library, 110 East Patrick Street, Frederick, 
 MD 21701, United States
ROOM: Community Room (CBA)
DESCRIPTION:Step into an enchanted fairy forest at the library! Enjoy whim
 sical activities inspired by nature and folklore. This all-ages program in
 vites you to explore, create and discover a little everyday magic through 
 fairy-inspired crafts and games. Fairy wings not required, but highly reco
 mmended!
URL:https://frederick.librarycalendar.com/event/ch-program-room-hold-19866
 6
END:VEVENT
END:VCALENDAR
