BEGIN:VCALENDAR
VERSION:2.0
PRODID:-//Library Market//iCal Export//EN
BEGIN:VEVENT
SUMMARY:Summer Vacation at the Library!
UID:198669
DTSTAMP:20260422T201300Z
DTSTART:20260811T180000Z
DTEND:20260811T190000Z
LOCATION:C. Burr Artz Public Library, 110 East Patrick Street, Frederick, 
 MD 21701, United States
ROOM: Community Room (CBA)
DESCRIPTION:Join us for a fun afternoon of exploring different places that
  you can go on vacation - all from the comfort of the library!
URL:https://frederick.librarycalendar.com/event/ch-program-room-hold-19866
 9
END:VEVENT
END:VCALENDAR
