BEGIN:VCALENDAR
VERSION:2.0
PRODID:-//Library Market//iCal Export//EN
BEGIN:VEVENT
SUMMARY:Finding Your Roots: An Introduction to Genealogy
UID:199001
DTSTAMP:20260419T172700Z
DTSTART:20260802T180000Z
DTEND:20260802T190000Z
LOCATION:Brunswick Branch Library, 915 North Maple Avenue, Brunswick, MD 2
 1716, United States
ROOM: Community Room (BR)
DESCRIPTION:Join Joe Ginorio from the Frederick County Genealogical Societ
 y to learn about genealogy resources and research tips for discovering you
 r family history.
URL:https://frederick.librarycalendar.com/event/finding-your-roots-introdu
 ction-genealogy-199001
END:VEVENT
END:VCALENDAR
