BEGIN:VCALENDAR
VERSION:2.0
PRODID:-//Library Market//iCal Export//EN
BEGIN:VEVENT
SUMMARY:Vine to Wine Charms with Mazzaroth Vineyards
UID:199088
DTSTAMP:20260421T023300Z
DTSTART:20260826T213000Z
DTEND:20260826T223000Z
LOCATION:Middletown Branch Library, 31 E Green Street, Middletown, MD 2176
 9, United States
ROOM: Meeting Room A
DESCRIPTION:Join Mazzaroth Vineyards in learning how grapes get from the v
 ine to the wine bottle and all of the behind-the-scenes     stories from
  the vineyard themselves. This presentation will be paired with the opport
 unity to make your own wine charms to take home. 
URL:https://frederick.librarycalendar.com/event/vine-wine-winemaking-mazza
 roth-vineyards-199088
END:VEVENT
END:VCALENDAR
