BEGIN:VCALENDAR
VERSION:2.0
PRODID:-//Library Market//iCal Export//EN
BEGIN:VEVENT
SUMMARY:Open Art Studio (Ages 6-10)
UID:200813
DTSTAMP:20260422T201300Z
DTSTART:20260804T200000Z
DTEND:20260804T210000Z
LOCATION:Middletown Branch Library, 31 E Green Street, Middletown, MD 2176
 9, United States
ROOM: Community Room (MID)
DESCRIPTION:Stop by and let your creativity bloom. Various art supplies wi
 th be on hand to create and make. You can take your projects home or leave
  them for display in our children’s department. Ages 6-10 (children unde
 r 8 must be accompanied by an adult). 
URL:https://frederick.librarycalendar.com/event/open-art-studio-ages-6-10-
 200813
END:VEVENT
END:VCALENDAR
