BEGIN:VCALENDAR
VERSION:2.0
PRODID:-//Library Market//iCal Export//EN
BEGIN:VEVENT
SUMMARY:Using Your Voice: Standing Up for Yourself and Others (ages 9-13)
UID:201074
DTSTAMP:20260422T221800Z
DTSTART:20260615T223000Z
DTEND:20260615T233000Z
LOCATION:Urbana Regional Library, 9020 Amelung Street, Frederick, MD 21704
 , United States
ROOM: Programming Room (UR)
DESCRIPTION:Through games, discussion, and interactive activities, tweens 
 will learn positive ways to use their voices to advocate for themselves an
 d their friends. The session highlights Heartly House, teen advocacy, and 
 ways young people can stand up for respect and safety, including Project H
 .E.A.R.T.S. (for grades 4-8).This program supports By the People: Civic En
 gagement for All, an FCPL initiative to foster civic knowledge and partici
 pation in the Frederick County community.
URL:https://frederick.librarycalendar.com/event/hold-tweenteen-program-201
 074
END:VEVENT
END:VCALENDAR
