BEGIN:VCALENDAR
VERSION:2.0
PRODID:-//Library Market//iCal Export//EN
BEGIN:VEVENT
SUMMARY:Step In, Speak Up: Bystander Skills in Real Life &amp; Online (age
 s 9-13)
UID:201079
DTSTAMP:20260422T221800Z
DTSTART:20260817T223000Z
DTEND:20260817T233000Z
LOCATION:Urbana Regional Library, 9020 Amelung Street, Frederick, MD 21704
 , United States
ROOM: Small Conference Room
DESCRIPTION:What would you do if you saw something online or in real life 
 that didnâ€™t feel right? Learn how to recognize unhealthy situations andÂ
  introduce the basics of bystander intervention in a way that feels realis
 tic and doable. Students learn how to notice warning signs, choose safe wa
 ys to help, and understand how their actions can prevent harm and support 
 healthy relationships in everyday situations. Decorate a useful skills too
 l kit (while supplies last) to take home. (For grades 4-8)
URL:https://frederick.librarycalendar.com/event/hold-tweenteen-program-201
 079
END:VEVENT
END:VCALENDAR
