BEGIN:VCALENDAR
VERSION:2.0
PRODID:-//Library Market//iCal Export//EN
BEGIN:VEVENT
SUMMARY:Adult Adaptive Program: Let&#039;s Get Moving
UID:201380
DTSTAMP:20260422T201300Z
DTSTART:20260811T180000Z
DTEND:20260811T190000Z
LOCATION:Brunswick Branch Library, 915 North Maple Avenue, Brunswick, MD 2
 1716, United States
ROOM: Community Room (BR)
DESCRIPTION:Come join us for an hour of seated movement activities led by 
 Bastian of AB arts LLC, a life enrichment company. Activities will include
  whole-body stretching, arm and leg cardio movements, and a themed dance p
 arty. We welcome all adults with developmental disabilities and their care
 givers for this fun, movement program.
URL:https://frederick.librarycalendar.com/event/adult-adaptive-program-let
 s-get-moving-201380
END:VEVENT
END:VCALENDAR
