BEGIN:VCALENDAR
VERSION:2.0
PRODID:-//Library Market//iCal Export//EN
BEGIN:VEVENT
SUMMARY:Kids Create: Build with Keva Planks and Dominoes
UID:202847
DTSTAMP:20260422T221800Z
DTSTART:20260506T211500Z
DTEND:20260506T221500Z
LOCATION:Edward F. Fry Memorial Library at Point of Rocks, 1635 Ballenger 
 Creek Pike, Point of Rocks, MD 21777, United States
ROOM: Large Room
DESCRIPTION:Join us for a variety of crafts, games, and hands-on activitie
 s. Designed for children in kindergarten through fifth grade.
URL:https://frederick.librarycalendar.com/event/kids-create-rm-hold-202847
END:VEVENT
END:VCALENDAR
