BEGIN:VCALENDAR
VERSION:2.0
PRODID:-//Library Market//iCal Export//EN
BEGIN:VEVENT
SUMMARY:Minecraft (ages 6-10)
UID:203359
DTSTAMP:20260422T221800Z
DTSTART:20260603T200000Z
DTEND:20260603T210000Z
LOCATION:Middletown Branch Library, 31 E Green Street, Middletown, MD 2176
 9, United States
ROOM: Community Room (MID)
DESCRIPTION:Join us for an afternoon of Minecraft creation. This program i
 s for elementary age children who are ready to have fun crafting a world t
 ogether. We will have two worlds set up to choose from, a creative world w
 here the sky is the limit and a survival world where you can test your met
 tle. Bring your friends and get ready to explore together. (ages 6-10)
URL:https://frederick.librarycalendar.com/event/minecraft-monday-ages-6-10
 -203359
END:VEVENT
END:VCALENDAR
