BEGIN:VCALENDAR
VERSION:2.0
PRODID:-//Library Market//iCal Export//EN
BEGIN:VEVENT
SUMMARY:Minecraft (ages 6-10)
UID:203363
DTSTAMP:20260422T221800Z
DTSTART:20260812T200000Z
DTEND:20260812T210000Z
LOCATION:Middletown Branch Library, 31 E Green Street, Middletown, MD 2176
 9, United States
ROOM: Community Room (MID)
DESCRIPTION:Join us for an afternoon of Minecraft creation. This program i
 s for elementary age children who are ready to have fun crafting a world t
 ogether.
URL:https://frederick.librarycalendar.com/event/tween-scene-tbd-ages-8-13-
 203363
END:VEVENT
END:VCALENDAR
