BEGIN:VCALENDAR
VERSION:2.0
PRODID:-//Library Market//iCal Export//EN
BEGIN:VEVENT
SUMMARY:Nature Journaling a Beginners Guide with ThorpeWood
UID:204080
DTSTAMP:20260422T221800Z
DTSTART:20260709T220000Z
DTEND:20260709T230000Z
LOCATION:Thurmont Regional Library, 76 East Moser Road, Thurmont, MD 21788
 , United States
ROOM: Deck
DESCRIPTION:Slow down and connect with the natural world through observati
 on and creativity. We’ll take a gentle walk along our story path, gather
 ing inspiration along the way, and then explore simple approaches to natur
 e journaling or creating a nature collage. No experience is needed - just 
 curiosity and a willingness to notice.  
URL:https://frederick.librarycalendar.com/event/nature-journaling-beginner
 s-guide-thorpewood-204080
END:VEVENT
END:VCALENDAR
