BEGIN:VCALENDAR
VERSION:2.0
PRODID:-//Library Market//iCal Export//EN
BEGIN:VEVENT
SUMMARY:Trivia at Middletown 50+ Community Center
UID:204591
DTSTAMP:20260420T205500Z
DTSTART:20260714T170000Z
DTEND:20260714T190000Z
LOCATION:Middletown 50+ Community Center, 101 Prospect Street, Middletown,
  MD 21769, United States
ROOM: Trivia at Middletown 50+ Community Center
DESCRIPTION:Join Middletown Branch Librarians at the Middletown 50+ Commun
 ity Center for trivia inspired by the 250th anniversary of our nation. 
URL:https://frederick.librarycalendar.com/event/trivia-middletown-50-commu
 nity-center-204591
END:VEVENT
END:VCALENDAR
