BEGIN:VCALENDAR
VERSION:2.0
PRODID:-//Library Market//iCal Export//EN
BEGIN:VEVENT
SUMMARY:Musical Storytime
UID:204658
DTSTAMP:20260419T172700Z
DTSTART:20260828T141500Z
DTEND:20260828T144500Z
LOCATION:Urbana Regional Library, 9020 Amelung Street, Frederick, MD 21704
 , United States
ROOM: Anthony M. Natelli Community Room
DESCRIPTION:
URL:https://frederick.librarycalendar.com/event/musical-storytime-204658
END:VEVENT
END:VCALENDAR
