BEGIN:VCALENDAR
VERSION:2.0
PRODID:-//Library Market//iCal Export//EN
BEGIN:VEVENT
SUMMARY:Elementary Explorers: Reptile Exploration
UID:204730
DTSTAMP:20260422T201300Z
DTSTART:20260819T190000Z
DTEND:20260819T200000Z
LOCATION:Urbana Regional Library, 9020 Amelung Street, Frederick, MD 21704
 , United States
ROOM: Anthony M. Natelli Community Room
DESCRIPTION:Get ready to scale up the fun! K–5 kids will discover how r
 eptiles survive with cool adaptations like scales and camouflage, all whil
 e making fun, reptile-themed crafts and activities.
URL:https://frederick.librarycalendar.com/event/elementary-explorers-repti
 le-exploration-204730
END:VEVENT
END:VCALENDAR
