BEGIN:VCALENDAR
VERSION:2.0
PRODID:-//Library Market//iCal Export//EN
BEGIN:VEVENT
SUMMARY:Job Search Skills Workshop
UID:205066
DTSTAMP:20260423T093400Z
DTSTART:20260729T223000Z
DTEND:20260729T233000Z
LOCATION:Thurmont Regional Library, 76 East Moser Road, Thurmont, MD 21788
 , United States
ROOM: Small Meeting Room
DESCRIPTION:The Online Job Search Skills workshop is designed to help part
 icipants confidently navigate the digital job market. This program focuses
  on the essential skills needed to search for and apply to jobs online, wi
 th hands-on guidance and practical strategies. Attendees are encouraged to
  bring their personal laptop or digital device. Participants will learn ho
 w to:Use popular job search websites like Indeed, LinkedIn, and state work
 force portalsCreate and manage online job seeker profilesSet up job alerts
  and filter search results effectivelySubmit online applications and uploa
 d supporting documentsResearch companies and job openings onlineRecognize 
 and avoid online job scamsThis program is ideal for anyone looking to shar
 pen their online job search skills and take full advantage of digital empl
 oyment tools.
URL:https://frederick.librarycalendar.com/event/job-search-skills-workshop
 -205066
END:VEVENT
END:VCALENDAR
