BEGIN:VCALENDAR
VERSION:2.0
PRODID:-//Library Market//iCal Export//EN
BEGIN:VEVENT
SUMMARY:Michael
UID:205079
DTSTAMP:20260423T224700Z
DTSTART:20260420T200000Z
DTEND:20260420T220000Z
LOCATION:Middletown Branch Library, 31 E Green Street, Middletown, MD 2176
 9, United States
ROOM: Family Play Area
DESCRIPTION:No mtg rm available
URL:https://frederick.librarycalendar.com/event/michael-205079
END:VEVENT
END:VCALENDAR
